BEGIN:VCALENDAR
VERSION:2.0
PRODID:spatie/icalendar-generator
DESCRIPTION:Veranstaltungen von 
X-WR-CALDESC:Veranstaltungen von 
REFRESH-INTERVAL;VALUE=DURATION:PT1440M
X-PUBLISHED-TTL:PT1440M
BEGIN:VTIMEZONE
TZID:Etc/GMT+0
BEGIN:STANDARD
DTSTART:20250727T190000Z
TZOFFSETFROM:+0000
TZOFFSETTO:+0000
END:STANDARD
END:VTIMEZONE
BEGIN:VTIMEZONE
TZID:UTC
BEGIN:STANDARD
DTSTART:20250727T111024Z
TZOFFSETFROM:+0000
TZOFFSETTO:+0000
END:STANDARD
END:VTIMEZONE
BEGIN:VEVENT
UID:130-72
DTSTAMP:20260423T111024Z
SUMMARY:Mainstream Clubabend mit Class
LOCATION:Gemeindesaal kath. Kirchengemeinde  Die Adresse ist 63853 Mömling
 en / Neue Schulstraße 3. Direkt neben der neuen katholischen Kirche Neue 
 Schulstraße 3  Mömlingen Bayern 63853
ORGANIZER;CN=admin:MAILTO:t@vt88.de
DTSTART;TZID=Etc/GMT+0:20260423T190000
DTEND;TZID=Etc/GMT+0:20260423T210000
X-ALT-DESC;FMTTYPE=TEXT/HTML:
CATEGORIES:General
URL;VALUE=URI:https://wp.highland-dragons-sd.de/?mc-events=mainstream-cluba
 bend-mit-class-5
METHOD:PUBLISH
END:VEVENT
END:VCALENDAR